BEGIN:VCALENDAR
VERSION:2.0
PRODID:-//Library Market//iCal Export//EN
BEGIN:VEVENT
SUMMARY:Blackbeard&#039;s Breakfast
UID:10944
DTSTAMP:20260421T110800Z
DTSTART:20260512T203000Z
DTEND:20260512T210000Z
LOCATION:Granby Public Library, 15 N Granby Rd, Granby, CT 06035, United S
 tates
ROOM: Children&#039;s Program Room
DESCRIPTION:Create your own pirate breakfast by making a waffle sandwich w
 ith no utensils needed! For grades K-2. Registration required. Please note
  that food used in this program may contain peanuts, tree nuts, soy or oth
 er allergens. Sponsored by The Friends of The Granby Public Libraries
URL:https://granby.librarycalendar.com/event/blackbeards-breakfast-10944
END:VEVENT
END:VCALENDAR
