BEGIN:VCALENDAR
VERSION:2.0
PRODID:-//Library Market//iCal Export//EN
BEGIN:VEVENT
SUMMARY:Animal Explorers: Dragonflies
UID:10773
DTSTAMP:20260422T072300Z
DTSTART:20260505T203000Z
DTEND:20260505T210000Z
LOCATION:Granby Public Library, 15 N Granby Rd, Granby, CT 06035, United S
 tates
ROOM: Children&#039;s Program Room
DESCRIPTION:Discover the wonders of the animal world through stories, expe
 riments and creative projects. This month we will be learning about dragon
 flies. For grades K-2. Registration required. Sponsored by The Friends of
  The Granby Public Libraries
URL:https://granby.librarycalendar.com/event/animal-explorers-10773
END:VEVENT
END:VCALENDAR
